BEGIN:VCALENDAR
VERSION:2.0
PRODID:-//Town of Orland - ECPv6.15.17.1//NONSGML v1.0//EN
CALSCALE:GREGORIAN
METHOD:PUBLISH
X-ORIGINAL-URL:https://townoforland.org
X-WR-CALDESC:Events for Town of Orland
REFRESH-INTERVAL;VALUE=DURATION:PT1H
X-Robots-Tag:noindex
X-PUBLISHED-TTL:PT1H
BEGIN:VTIMEZONE
TZID:America/New_York
BEGIN:DAYLIGHT
TZOFFSETFROM:-0500
TZOFFSETTO:-0400
TZNAME:EDT
DTSTART:20200308T070000
END:DAYLIGHT
BEGIN:STANDARD
TZOFFSETFROM:-0400
TZOFFSETTO:-0500
TZNAME:EST
DTSTART:20201101T060000
END:STANDARD
BEGIN:DAYLIGHT
TZOFFSETFROM:-0500
TZOFFSETTO:-0400
TZNAME:EDT
DTSTART:20210314T070000
END:DAYLIGHT
BEGIN:STANDARD
TZOFFSETFROM:-0400
TZOFFSETTO:-0500
TZNAME:EST
DTSTART:20211107T060000
END:STANDARD
BEGIN:DAYLIGHT
TZOFFSETFROM:-0500
TZOFFSETTO:-0400
TZNAME:EDT
DTSTART:20220313T070000
END:DAYLIGHT
BEGIN:STANDARD
TZOFFSETFROM:-0400
TZOFFSETTO:-0500
TZNAME:EST
DTSTART:20221106T060000
END:STANDARD
END:VTIMEZONE
BEGIN:VEVENT
DTSTART;TZID=America/New_York:20210911T090000
DTEND;TZID=America/New_York:20210911T140000
DTSTAMP:20260424T230454
CREATED:20210804T134450Z
LAST-MODIFIED:20210804T134450Z
UID:10000074-1631350800-1631368800@townoforland.org
SUMMARY:Orland River Day 2021
DESCRIPTION:The Orland River Day will be held Saturday\, September 11\, 2021 in the Orland Village along Narramissic Drive! Complete with a parade\, vendors\, raft race\, & much more!
URL:https://townoforland.org/event/orland-river-day-2021/
END:VEVENT
END:VCALENDAR