BEGIN:VCALENDAR
VERSION:2.0
PRODID:-//Town of Orland - ECPv6.15.17.1//NONSGML v1.0//EN
CALSCALE:GREGORIAN
METHOD:PUBLISH
X-WR-CALNAME:Town of Orland
X-ORIGINAL-URL:https://townoforland.org
X-WR-CALDESC:Events for Town of Orland
REFRESH-INTERVAL;VALUE=DURATION:PT1H
X-Robots-Tag:noindex
X-PUBLISHED-TTL:PT1H
BEGIN:VTIMEZONE
TZID:America/New_York
BEGIN:DAYLIGHT
TZOFFSETFROM:-0500
TZOFFSETTO:-0400
TZNAME:EDT
DTSTART:20210314T070000
END:DAYLIGHT
BEGIN:STANDARD
TZOFFSETFROM:-0400
TZOFFSETTO:-0500
TZNAME:EST
DTSTART:20211107T060000
END:STANDARD
BEGIN:DAYLIGHT
TZOFFSETFROM:-0500
TZOFFSETTO:-0400
TZNAME:EDT
DTSTART:20220313T070000
END:DAYLIGHT
BEGIN:STANDARD
TZOFFSETFROM:-0400
TZOFFSETTO:-0500
TZNAME:EST
DTSTART:20221106T060000
END:STANDARD
BEGIN:DAYLIGHT
TZOFFSETFROM:-0500
TZOFFSETTO:-0400
TZNAME:EDT
DTSTART:20230312T070000
END:DAYLIGHT
BEGIN:STANDARD
TZOFFSETFROM:-0400
TZOFFSETTO:-0500
TZNAME:EST
DTSTART:20231105T060000
END:STANDARD
END:VTIMEZONE
BEGIN:VEVENT
DTSTART;TZID=America/New_York:20221115T190000
DTEND;TZID=America/New_York:20221115T190000
DTSTAMP:20260423T193925
CREATED:20221025T125033Z
LAST-MODIFIED:20221025T125033Z
UID:10000089-1668538800-1668538800@townoforland.org
SUMMARY:Comprehensive Plan 2022 Public Hearing
DESCRIPTION:The Orland Comprehensive Plan Committee will hold a Public Hearing on Tuesday\, Nov. 15\, 2022\, at 7:00pm\, at the Orland Community Center\, regarding the Orland Comprehesive Plan 2022. 
URL:https://townoforland.org/event/comprehensive-plan-2022-public-hearing/
CATEGORIES:Meetings
END:VEVENT
END:VCALENDAR