BEGIN:VCALENDAR
VERSION:2.0
PRODID:-//Town of Orland - ECPv6.15.17.1//NONSGML v1.0//EN
CALSCALE:GREGORIAN
METHOD:PUBLISH
X-ORIGINAL-URL:https://townoforland.org
X-WR-CALDESC:Events for Town of Orland
REFRESH-INTERVAL;VALUE=DURATION:PT1H
X-Robots-Tag:noindex
X-PUBLISHED-TTL:PT1H
BEGIN:VTIMEZONE
TZID:America/Chicago
BEGIN:DAYLIGHT
TZOFFSETFROM:-0600
TZOFFSETTO:-0500
TZNAME:CDT
DTSTART:20210314T080000
END:DAYLIGHT
BEGIN:STANDARD
TZOFFSETFROM:-0500
TZOFFSETTO:-0600
TZNAME:CST
DTSTART:20211107T070000
END:STANDARD
BEGIN:DAYLIGHT
TZOFFSETFROM:-0600
TZOFFSETTO:-0500
TZNAME:CDT
DTSTART:20220313T080000
END:DAYLIGHT
BEGIN:STANDARD
TZOFFSETFROM:-0500
TZOFFSETTO:-0600
TZNAME:CST
DTSTART:20221106T070000
END:STANDARD
BEGIN:DAYLIGHT
TZOFFSETFROM:-0600
TZOFFSETTO:-0500
TZNAME:CDT
DTSTART:20230312T080000
END:DAYLIGHT
BEGIN:STANDARD
TZOFFSETFROM:-0500
TZOFFSETTO:-0600
TZNAME:CST
DTSTART:20231105T070000
END:STANDARD
END:VTIMEZONE
BEGIN:VTIMEZONE
TZID:America/New_York
BEGIN:DAYLIGHT
TZOFFSETFROM:-0500
TZOFFSETTO:-0400
TZNAME:EDT
DTSTART:20210314T070000
END:DAYLIGHT
BEGIN:STANDARD
TZOFFSETFROM:-0400
TZOFFSETTO:-0500
TZNAME:EST
DTSTART:20211107T060000
END:STANDARD
BEGIN:DAYLIGHT
TZOFFSETFROM:-0500
TZOFFSETTO:-0400
TZNAME:EDT
DTSTART:20220313T070000
END:DAYLIGHT
BEGIN:STANDARD
TZOFFSETFROM:-0400
TZOFFSETTO:-0500
TZNAME:EST
DTSTART:20221106T060000
END:STANDARD
BEGIN:DAYLIGHT
TZOFFSETFROM:-0500
TZOFFSETTO:-0400
TZNAME:EDT
DTSTART:20230312T070000
END:DAYLIGHT
BEGIN:STANDARD
TZOFFSETFROM:-0400
TZOFFSETTO:-0500
TZNAME:EST
DTSTART:20231105T060000
END:STANDARD
END:VTIMEZONE
BEGIN:VEVENT
DTSTART;TZID=America/Chicago:20220203T183000
DTEND;TZID=America/Chicago:20220203T200000
DTSTAMP:20260424T085646
CREATED:20201003T202435Z
LAST-MODIFIED:20201003T202435Z
UID:10000018-1643913000-1643918400@townoforland.org
SUMMARY:Selectmen’s Meeting
DESCRIPTION:
URL:https://townoforland.org/event/selectmens-meeting/2022-02-03/
CATEGORIES:Selectmen
END:VEVENT
BEGIN:VEVENT
DTSTART;TZID=America/Chicago:20220207T190000
DTEND;TZID=America/Chicago:20220207T200000
DTSTAMP:20260424T085646
CREATED:20201003T202701Z
LAST-MODIFIED:20201003T202701Z
UID:10000062-1644260400-1644264000@townoforland.org
SUMMARY:Planning Board
DESCRIPTION:
URL:https://townoforland.org/event/planning-board/2022-02-07/
CATEGORIES:Plan Commission
END:VEVENT
BEGIN:VEVENT
DTSTART;TZID=America/Chicago:20220217T183000
DTEND;TZID=America/Chicago:20220217T200000
DTSTAMP:20260424T085646
CREATED:20201003T202520Z
LAST-MODIFIED:20201003T202520Z
UID:10000043-1645122600-1645128000@townoforland.org
SUMMARY:Selectmen’s Meeting
DESCRIPTION:
URL:https://townoforland.org/event/selectmens-meeting-2/2022-02-17/
CATEGORIES:Selectmen
END:VEVENT
BEGIN:VEVENT
DTSTART;TZID=America/New_York:20220222T183000
DTEND;TZID=America/New_York:20220222T183000
DTSTAMP:20260424T085646
CREATED:20220201T161726Z
LAST-MODIFIED:20220201T161726Z
UID:10000080-1645554600-1645554600@townoforland.org
SUMMARY:Fire Department Committee Meeting
DESCRIPTION:The Orland Fire Department Committee will meet February 22\, 2022\, at 6:30pm\, at the Orland Fire Department.
URL:https://townoforland.org/event/fire-department-committee-meeting-3/
CATEGORIES:Meetings
END:VEVENT
END:VCALENDAR