BEGIN:VCALENDAR
VERSION:2.0
PRODID:-//Town of Orland - ECPv6.15.17.1//NONSGML v1.0//EN
CALSCALE:GREGORIAN
METHOD:PUBLISH
X-ORIGINAL-URL:https://townoforland.org
X-WR-CALDESC:Events for Town of Orland
REFRESH-INTERVAL;VALUE=DURATION:PT1H
X-Robots-Tag:noindex
X-PUBLISHED-TTL:PT1H
BEGIN:VTIMEZONE
TZID:America/Chicago
BEGIN:DAYLIGHT
TZOFFSETFROM:-0600
TZOFFSETTO:-0500
TZNAME:CDT
DTSTART:20210314T080000
END:DAYLIGHT
BEGIN:STANDARD
TZOFFSETFROM:-0500
TZOFFSETTO:-0600
TZNAME:CST
DTSTART:20211107T070000
END:STANDARD
BEGIN:DAYLIGHT
TZOFFSETFROM:-0600
TZOFFSETTO:-0500
TZNAME:CDT
DTSTART:20220313T080000
END:DAYLIGHT
BEGIN:STANDARD
TZOFFSETFROM:-0500
TZOFFSETTO:-0600
TZNAME:CST
DTSTART:20221106T070000
END:STANDARD
BEGIN:DAYLIGHT
TZOFFSETFROM:-0600
TZOFFSETTO:-0500
TZNAME:CDT
DTSTART:20230312T080000
END:DAYLIGHT
BEGIN:STANDARD
TZOFFSETFROM:-0500
TZOFFSETTO:-0600
TZNAME:CST
DTSTART:20231105T070000
END:STANDARD
END:VTIMEZONE
BEGIN:VTIMEZONE
TZID:America/New_York
BEGIN:DAYLIGHT
TZOFFSETFROM:-0500
TZOFFSETTO:-0400
TZNAME:EDT
DTSTART:20210314T070000
END:DAYLIGHT
BEGIN:STANDARD
TZOFFSETFROM:-0400
TZOFFSETTO:-0500
TZNAME:EST
DTSTART:20211107T060000
END:STANDARD
BEGIN:DAYLIGHT
TZOFFSETFROM:-0500
TZOFFSETTO:-0400
TZNAME:EDT
DTSTART:20220313T070000
END:DAYLIGHT
BEGIN:STANDARD
TZOFFSETFROM:-0400
TZOFFSETTO:-0500
TZNAME:EST
DTSTART:20221106T060000
END:STANDARD
BEGIN:DAYLIGHT
TZOFFSETFROM:-0500
TZOFFSETTO:-0400
TZNAME:EDT
DTSTART:20230312T070000
END:DAYLIGHT
BEGIN:STANDARD
TZOFFSETFROM:-0400
TZOFFSETTO:-0500
TZNAME:EST
DTSTART:20231105T060000
END:STANDARD
END:VTIMEZONE
BEGIN:VEVENT
DTSTART;TZID=America/Chicago:20220303T183000
DTEND;TZID=America/Chicago:20220303T200000
DTSTAMP:20260424T085655
CREATED:20201003T202435Z
LAST-MODIFIED:20201003T202435Z
UID:10000019-1646332200-1646337600@townoforland.org
SUMMARY:Selectmen’s Meeting
DESCRIPTION:
URL:https://townoforland.org/event/selectmens-meeting/2022-03-03/
CATEGORIES:Selectmen
END:VEVENT
BEGIN:VEVENT
DTSTART;TZID=America/New_York:20220303T190000
DTEND;TZID=America/New_York:20220303T190000
DTSTAMP:20260424T085655
CREATED:20220216T140125Z
LAST-MODIFIED:20220216T140125Z
UID:10000081-1646334000-1646334000@townoforland.org
SUMMARY:Appeals Board Meeting
DESCRIPTION:The Town of Orland Board of Appeals will hold a public hearing on the application submitted by Stephen Najjar in regards to the appeal of the approval of the permit for Kamp K-9 on Thursday\, March 3\, 2022\, at 7:00pm\, at the Orland Town Office.
URL:https://townoforland.org/event/appeals-board-meeting/
CATEGORIES:Meetings
END:VEVENT
BEGIN:VEVENT
DTSTART;TZID=America/Chicago:20220307T190000
DTEND;TZID=America/Chicago:20220307T200000
DTSTAMP:20260424T085655
CREATED:20201003T202701Z
LAST-MODIFIED:20201003T202701Z
UID:10000063-1646679600-1646683200@townoforland.org
SUMMARY:Planning Board
DESCRIPTION:
URL:https://townoforland.org/event/planning-board/2022-03-07/
CATEGORIES:Plan Commission
END:VEVENT
BEGIN:VEVENT
DTSTART;TZID=America/Chicago:20220317T183000
DTEND;TZID=America/Chicago:20220317T200000
DTSTAMP:20260424T085655
CREATED:20201003T202520Z
LAST-MODIFIED:20201003T202520Z
UID:10000044-1647541800-1647547200@townoforland.org
SUMMARY:Selectmen’s Meeting
DESCRIPTION:
URL:https://townoforland.org/event/selectmens-meeting-2/2022-03-17/
CATEGORIES:Selectmen
END:VEVENT
END:VCALENDAR