BEGIN:VCALENDAR
VERSION:2.0
PRODID:-//Town of Orland - ECPv6.15.17.1//NONSGML v1.0//EN
CALSCALE:GREGORIAN
METHOD:PUBLISH
X-WR-CALNAME:Town of Orland
X-ORIGINAL-URL:https://townoforland.org
X-WR-CALDESC:Events for Town of Orland
REFRESH-INTERVAL;VALUE=DURATION:PT1H
X-Robots-Tag:noindex
X-PUBLISHED-TTL:PT1H
BEGIN:VTIMEZONE
TZID:America/Chicago
BEGIN:DAYLIGHT
TZOFFSETFROM:-0600
TZOFFSETTO:-0500
TZNAME:CDT
DTSTART:20210314T080000
END:DAYLIGHT
BEGIN:STANDARD
TZOFFSETFROM:-0500
TZOFFSETTO:-0600
TZNAME:CST
DTSTART:20211107T070000
END:STANDARD
BEGIN:DAYLIGHT
TZOFFSETFROM:-0600
TZOFFSETTO:-0500
TZNAME:CDT
DTSTART:20220313T080000
END:DAYLIGHT
BEGIN:STANDARD
TZOFFSETFROM:-0500
TZOFFSETTO:-0600
TZNAME:CST
DTSTART:20221106T070000
END:STANDARD
BEGIN:DAYLIGHT
TZOFFSETFROM:-0600
TZOFFSETTO:-0500
TZNAME:CDT
DTSTART:20230312T080000
END:DAYLIGHT
BEGIN:STANDARD
TZOFFSETFROM:-0500
TZOFFSETTO:-0600
TZNAME:CST
DTSTART:20231105T070000
END:STANDARD
END:VTIMEZONE
BEGIN:VTIMEZONE
TZID:America/New_York
BEGIN:DAYLIGHT
TZOFFSETFROM:-0500
TZOFFSETTO:-0400
TZNAME:EDT
DTSTART:20210314T070000
END:DAYLIGHT
BEGIN:STANDARD
TZOFFSETFROM:-0400
TZOFFSETTO:-0500
TZNAME:EST
DTSTART:20211107T060000
END:STANDARD
BEGIN:DAYLIGHT
TZOFFSETFROM:-0500
TZOFFSETTO:-0400
TZNAME:EDT
DTSTART:20220313T070000
END:DAYLIGHT
BEGIN:STANDARD
TZOFFSETFROM:-0400
TZOFFSETTO:-0500
TZNAME:EST
DTSTART:20221106T060000
END:STANDARD
BEGIN:DAYLIGHT
TZOFFSETFROM:-0500
TZOFFSETTO:-0400
TZNAME:EDT
DTSTART:20230312T070000
END:DAYLIGHT
BEGIN:STANDARD
TZOFFSETFROM:-0400
TZOFFSETTO:-0500
TZNAME:EST
DTSTART:20231105T060000
END:STANDARD
END:VTIMEZONE
BEGIN:VEVENT
DTSTART;TZID=America/Chicago:20220404T190000
DTEND;TZID=America/Chicago:20220404T200000
DTSTAMP:20260424T055640
CREATED:20201003T202701Z
LAST-MODIFIED:20201003T202701Z
UID:10000064-1649098800-1649102400@townoforland.org
SUMMARY:Planning Board
DESCRIPTION:
URL:https://townoforland.org/event/planning-board/2022-04-04/
CATEGORIES:Plan Commission
END:VEVENT
BEGIN:VEVENT
DTSTART;TZID=America/Chicago:20220407T183000
DTEND;TZID=America/Chicago:20220407T200000
DTSTAMP:20260424T055640
CREATED:20201003T202435Z
LAST-MODIFIED:20201003T202435Z
UID:10000020-1649356200-1649361600@townoforland.org
SUMMARY:Selectmen’s Meeting
DESCRIPTION:
URL:https://townoforland.org/event/selectmens-meeting/2022-04-07/
CATEGORIES:Selectmen
END:VEVENT
BEGIN:VEVENT
DTSTART;TZID=America/Chicago:20220421T183000
DTEND;TZID=America/Chicago:20220421T200000
DTSTAMP:20260424T055640
CREATED:20201003T202520Z
LAST-MODIFIED:20201003T202520Z
UID:10000045-1650565800-1650571200@townoforland.org
SUMMARY:Selectmen’s Meeting
DESCRIPTION:
URL:https://townoforland.org/event/selectmens-meeting-2/2022-04-21/
CATEGORIES:Selectmen
END:VEVENT
BEGIN:VEVENT
DTSTART;TZID=America/New_York:20220426T180000
DTEND;TZID=America/New_York:20220426T180000
DTSTAMP:20260424T055640
CREATED:20220414T131347Z
LAST-MODIFIED:20220414T131347Z
UID:10000082-1650996000-1650996000@townoforland.org
SUMMARY:Fire Department Committee Informational Meeting
DESCRIPTION:The Orland Fire Department Committee will host an informal informational meeting regarding the proposal of a new Fire Station on Tuesday\, April 26\, 2022\, at 6pm\, at the Orland Community Center\, 21 School House Road\, Orland\, ME 04472. 
URL:https://townoforland.org/event/fire-department-committee-informational-meeting/
CATEGORIES:Meetings
END:VEVENT
END:VCALENDAR