BEGIN:VCALENDAR
VERSION:2.0
PRODID:-//Town of Orland - ECPv6.15.17.1//NONSGML v1.0//EN
CALSCALE:GREGORIAN
METHOD:PUBLISH
X-WR-CALNAME:Town of Orland
X-ORIGINAL-URL:https://townoforland.org
X-WR-CALDESC:Events for Town of Orland
REFRESH-INTERVAL;VALUE=DURATION:PT1H
X-Robots-Tag:noindex
X-PUBLISHED-TTL:PT1H
BEGIN:VTIMEZONE
TZID:America/New_York
BEGIN:DAYLIGHT
TZOFFSETFROM:-0500
TZOFFSETTO:-0400
TZNAME:EDT
DTSTART:20220313T070000
END:DAYLIGHT
BEGIN:STANDARD
TZOFFSETFROM:-0400
TZOFFSETTO:-0500
TZNAME:EST
DTSTART:20221106T060000
END:STANDARD
BEGIN:DAYLIGHT
TZOFFSETFROM:-0500
TZOFFSETTO:-0400
TZNAME:EDT
DTSTART:20230312T070000
END:DAYLIGHT
BEGIN:STANDARD
TZOFFSETFROM:-0400
TZOFFSETTO:-0500
TZNAME:EST
DTSTART:20231105T060000
END:STANDARD
BEGIN:DAYLIGHT
TZOFFSETFROM:-0500
TZOFFSETTO:-0400
TZNAME:EDT
DTSTART:20240310T070000
END:DAYLIGHT
BEGIN:STANDARD
TZOFFSETFROM:-0400
TZOFFSETTO:-0500
TZNAME:EST
DTSTART:20241103T060000
END:STANDARD
END:VTIMEZONE
BEGIN:VEVENT
DTSTART;VALUE=DATE:20230620
DTEND;VALUE=DATE:20230621
DTSTAMP:20260423T073310
CREATED:20230616T180144Z
LAST-MODIFIED:20230616T180144Z
UID:10000156-1687219200-1687305599@townoforland.org
SUMMARY:Town Office closed Tuesday\, 6/20/2023\, for Juneteenth Holiday
DESCRIPTION:The Orland Town Office will be closed Tuesday\, June 20\, 2023 for Juneteenth. We wish you a wonderful holiday!
URL:https://townoforland.org/event/town-office-closed-tuesday-6-20-2023-for-juneteenth-holiday/
CATEGORIES:Meetings
ATTACH;FMTTYPE=image/jpeg:https://cdn.townweb.com/townoforland.org/wp-content/uploads/2023/06/Juneteenth-Sign-FB.jpg
END:VEVENT
BEGIN:VEVENT
DTSTART;TZID=America/New_York:20230630T080000
DTEND;TZID=America/New_York:20230630T150000
DTSTAMP:20260423T073310
CREATED:20230621T205020Z
LAST-MODIFIED:20230621T205020Z
UID:10000158-1688112000-1688137200@townoforland.org
SUMMARY:Town Office open 8:00am-3:00pm for End of Year Processing
DESCRIPTION:The Orland Town Office will be open 8:00am-3:00pm to close early for end of year processing. 
URL:https://townoforland.org/event/town-office-open-800am-300pm-for-end-of-year-processing/
CATEGORIES:Meetings
END:VEVENT
END:VCALENDAR