BEGIN:VCALENDAR
VERSION:2.0
PRODID:-//Town of Orland - ECPv6.15.17.1//NONSGML v1.0//EN
CALSCALE:GREGORIAN
METHOD:PUBLISH
X-ORIGINAL-URL:https://townoforland.org
X-WR-CALDESC:Events for Town of Orland
REFRESH-INTERVAL;VALUE=DURATION:PT1H
X-Robots-Tag:noindex
X-PUBLISHED-TTL:PT1H
BEGIN:VTIMEZONE
TZID:America/New_York
BEGIN:DAYLIGHT
TZOFFSETFROM:-0500
TZOFFSETTO:-0400
TZNAME:EDT
DTSTART:20220313T070000
END:DAYLIGHT
BEGIN:STANDARD
TZOFFSETFROM:-0400
TZOFFSETTO:-0500
TZNAME:EST
DTSTART:20221106T060000
END:STANDARD
BEGIN:DAYLIGHT
TZOFFSETFROM:-0500
TZOFFSETTO:-0400
TZNAME:EDT
DTSTART:20230312T070000
END:DAYLIGHT
BEGIN:STANDARD
TZOFFSETFROM:-0400
TZOFFSETTO:-0500
TZNAME:EST
DTSTART:20231105T060000
END:STANDARD
BEGIN:DAYLIGHT
TZOFFSETFROM:-0500
TZOFFSETTO:-0400
TZNAME:EDT
DTSTART:20240310T070000
END:DAYLIGHT
BEGIN:STANDARD
TZOFFSETFROM:-0400
TZOFFSETTO:-0500
TZNAME:EST
DTSTART:20241103T060000
END:STANDARD
END:VTIMEZONE
BEGIN:VEVENT
DTSTART;VALUE=DATE:20230704
DTEND;VALUE=DATE:20230705
DTSTAMP:20260423T061157
CREATED:20230621T205215Z
LAST-MODIFIED:20230621T205215Z
UID:10000159-1688428800-1688515199@townoforland.org
SUMMARY:Orland Town Office closed 7/4/23 for 4th of July holiday
DESCRIPTION:The Orland Town Office will be closed Tuesday\, July 4\, 2023 for the 4th of July holiday. We wish you a wonderful holiday!
URL:https://townoforland.org/event/orland-town-office-closed-7-4-23-for-4th-of-july-holiday/
CATEGORIES:Meetings
END:VEVENT
BEGIN:VEVENT
DTSTART;TZID=America/New_York:20230706T183000
DTEND;TZID=America/New_York:20230706T200000
DTSTAMP:20260423T061157
CREATED:20230525T142210Z
LAST-MODIFIED:20230525T142210Z
UID:10000124-1688668200-1688673600@townoforland.org
SUMMARY:Selectmen's Meeting
DESCRIPTION:
URL:https://townoforland.org/event/selectmens-meeting-4/
CATEGORIES:Meetings
END:VEVENT
BEGIN:VEVENT
DTSTART;TZID=America/New_York:20230710T190000
DTEND;TZID=America/New_York:20230710T190000
DTSTAMP:20260423T061157
CREATED:20230621T155250Z
LAST-MODIFIED:20230621T155250Z
UID:10000157-1689015600-1689015600@townoforland.org
SUMMARY:Planning Board Meeting
DESCRIPTION:The Planning Board will meet on Monday\, July 10\, 2023\, at 7:00pm\, at the Orland Community Center.
URL:https://townoforland.org/event/planning-board-meeting/
CATEGORIES:Meetings
END:VEVENT
BEGIN:VEVENT
DTSTART;TZID=America/New_York:20230718T090000
DTEND;TZID=America/New_York:20230718T090000
DTSTAMP:20260423T061157
CREATED:20230713T130124Z
LAST-MODIFIED:20230713T130124Z
UID:10000160-1689670800-1689670800@townoforland.org
SUMMARY:Informational Meeting on Intent to File Application with MDEP regarding new Orland Fire Station
DESCRIPTION:A Public Informational Meeting for the Stormwater and Natural Resources Protection Act Applications will be held at 9:00am on Tuesday\, July 18\, 2023\, at the site (near the existing salt/sand shed) on Gray Meadow Road in Orland\, Maine. 
URL:https://townoforland.org/event/informational-meeting-on-intent-to-file-application-with-mdep-regarding-new-orland-fire-station/
CATEGORIES:Meetings
ATTACH;FMTTYPE=image/jpeg:https://cdn.townweb.com/townoforland.org/wp-content/uploads/2023/07/Intent-to-File-Informational-Meeting-18-July-2023-1.jpg
END:VEVENT
END:VCALENDAR